BEGIN:VCALENDAR
VERSION:2.0
PRODID: Ultiorganizer


BEGIN:VEVENT
SUMMARY:Vorai-OTSO
DESCRIPTION:Open: Pool C
LOCATION:  5
DTSTART;TZID=Europe/Copenhagen:20240202T113000
DURATION: P50M
GEO:;
END:VEVENT

BEGIN:VEVENT
SUMMARY:UFO-VfL Gemmrigheim
DESCRIPTION:Open: Pool C
LOCATION:  6
DTSTART;TZID=Europe/Copenhagen:20240202T113000
DURATION: P50M
GEO:;
END:VEVENT

BEGIN:VEVENT
SUMMARY:OTSO-UFO
DESCRIPTION:Open: Pool C
LOCATION:  3 - Veo
DTSTART;TZID=Europe/Copenhagen:20240202T145000
DURATION: P50M
GEO:;
END:VEVENT

BEGIN:VEVENT
SUMMARY:VfL Gemmrigheim-Vorai
DESCRIPTION:Open: Pool C
LOCATION:  4 - Veo
DTSTART;TZID=Europe/Copenhagen:20240202T145000
DURATION: P50M
GEO:;
END:VEVENT

BEGIN:VEVENT
SUMMARY:OTSO-VfL Gemmrigheim
DESCRIPTION:Open: Pool C
LOCATION:  1
DTSTART;TZID=Europe/Copenhagen:20240202T181000
DURATION: P50M
GEO:;
END:VEVENT

BEGIN:VEVENT
SUMMARY:Vorai-UFO
DESCRIPTION:Open: Pool C
LOCATION:  2
DTSTART;TZID=Europe/Copenhagen:20240202T181000
DURATION: P50M
GEO:;
END:VEVENT

END:VCALENDAR
